Workbook

Sheet 1ОиДинфоб (2)
D1: Показатель 1.1 | J1: Показатель 1.2 | M1: Показатель 1.3
D2: Показатель 1.1.1 | F2: Покзатель 1.1.2 | M2: Показатель 1.3.1
B3: № | C3: ДО | D3: 1.1.1. Объем информации, размещенной на информационных стендах в помещении организации | F3: 1.1.2. Объем информации, размещенной на официальном сайте организации | H3: Значение показателя 1.1 | I3: Значение показателя 1.1 с учетом значимости | J3: Количество функционирующих дистанционных способов взаимодействия | K3: Значение показателя 1.2 | L3: Значение показателя 1.2 с учетом значимости | M3: Число получателей услуг, удовлетворенных качеством, полнотой и доступностью информации о деятельности организации, размещенной на стендах организации | N3: Число опрошенных получателей услуг, ответивших на соответствующий вопрос анкеты | O3: Число получателей услуг, удовлетворенных качеством, полнотой и доступностью информации о деятельности организации, размещенной на сайте организации | P3: Число опрошенных получателей услуг, ответивших на соответствующий вопрос анкеты | Q3: Значение показателя 1.3 | R3: Значение показателя 1 .3 с учетом веса | S3: Итого по критерию:
H4: 100 | I4: 30 | K4: 100 | L4: 30 | Q4: 100 | R4: 40 | S4: =I4+L4+R4 -> 100
A5: 12 | B5: Троицкий район | C5: МБУДО «Троицкая детско-юношеская спортивная школа» Троицкого района | D5: 8 | E5: 9 | F5: 16 | G5: 32 | H5: =0.5*(D5/E5+F5/G5)*100 -> 69.444444 | I5: =H5*0.3 -> 20.833333 | J5: 4 | K5: =IF(J5<=3,J5*30,100) -> 100 | L5: =K5*0.3 -> 30 | M5: 67 | N5: 69 | O5: 39 | P5: 41 | Q5: =0.5*(M5/N5+O5/P5)*100 -> 96.1117 | R5: =Q5*0.4 -> 38.44468 | S5: =I5+L5+R5 -> 89.278013

Sheet 1ОиДинфоб
D1: Показатель 1.1 | H1: Показатель 1.2 | K1: Показатель 1.3
D2: Показатель 1.1.1 | E2: Покзатель 1.1.2 | K2: Показатель 1.3.1
B3: № | C3: ДО | D3: 1.1.1. Объем информации, размещенной на информационных стендах в помещении организации | E3: 1.1.2. Объем информации, размещенной на официальном сайте организации | F3: Значение показателя 1.1 | G3: Значение показателя 1.1 с учетом значимости | H3: Количество функционирующих дистанционных способов взаимодействия | I3: Значение показателя 1.2 | J3: Значение показателя 1.2 с учетом значимости | K3: Число получателей услуг, удовлетворенных качеством, полнотой и доступностью информации о деятельности организации, размещенной на стендах организации | L3: Число опрошенных получателей услуг, ответивших на соответствующий вопрос анкеты | M3: Число получателей услуг, удовлетворенных качеством, полнотой и доступностью информации о деятельности организации, размещенной на сайте организации | N3: Число опрошенных получателей услуг, ответивших на соответствующий вопрос анкеты | O3: Значение показателя 1.3 | P3: Значение показателя 1 .3 с учетом веса | Q3: Итого по критерию:
F4: 100 | G4: 30 | I4: 100 | J4: 30 | O4: 100 | P4: 40 | Q4: =G4+J4+P4 -> 100
A5: 12 | B5: Троицкий район | C5: МБУДО «Троицкая детско-юношеская спортивная школа» Троицкого района | D5: 8 | E5: 16 | F5: 69.444444 | G5: 20.833333 | H5: 4 | I5: 100 | J5: 30 | K5: 67 | L5: 69 | M5: 39 | N5: 41 | O5: 96.1117 | P5: 38.44468 | Q5: 89.278013

Sheet 2КомфУслНал
D1: Наличие в образовательных организациях комфортных условий для предоставления услуг
D2: Наличие комфортной зоны отдыха (ожидания) оборудованной соответствующей мебелью | E2: Наличие и понятность навигации внутри организации | F2: Наличие и доступность питьевой воды | G2: Наличие и доступность санитарно-гигиенических помещений | H2: Санитарное состояние помещений организации | I2: Транспортная доступность (доступность общественного транспорта и наличие парковки) | J2: Доступность записи на получение услуги (по телефону, с использованием сети «Интернет» на официальном сайте ор | K2: Всего
A3: 12 | B3: Троицкий район | C3: МБУДО «Троицкая детско-юношеская спортивная школа» Троицкого района | D3: 1 | E3: 1 | F3: 1 | G3: 1 | H3: 1 | I3: 1 | J3: 1 | K3: =SUM(D3:J3) -> 7

Sheet 2КомУслОц
D1: Показатель 2.1 Обеспечение в организации социальной сферы комфортных условий для предоставления услуг
D2: 2.1.1. Наличие комфортных условий для предоставления услуг | G2: Показатель 2.3 Доля получателей услуг, удовлетворенных комфортностью условий предоставления услуг
B3: № | C3: ДО | D3: Количество комфортных условий для предоставления услуг | E3: Значение показателя 2.1.1 | F3: Значение показателя с учетом значимости | G3: Число получателей услуг, удовлетворенных комфортностью предоставления услуг организацией образования | H3: Число получателей услуг, опрошенных по данному вопросу | I3: Значение показателя 2.3 | J3: Значение показателя 2.3 с учетом значимости | K3: Итого по критерию:
E4: 100 | F4: 50 | I4: 100 | J4: =I4*0.5 -> 50 | K4: =F4+J4 -> 100
A5: 12 | B5: Троицкий район | C5: МБУДО «Троицкая детско-юношеская спортивная школа» Троицкого района | D5: 7 | E5: =IF(D5<=4,D5*20,100) -> 100 | F5: 50 | G5: 88 | H5: 89 | I5: =G5/H5*100 -> 98.876404 | J5: =I5*0.5 -> 49.438202 | K5: =F5+J5 -> 99.438202

Sheet 3УслДостИнвНал
D1: Оборудование территории, прилегающей к организации, и ее помещений с учетом доступности для инвалидов: | J1: Обеспечение в организации условий доступности, позволяющих инвалидам получать услуги наравне с другими, включая:
D2: Оборудование входных групп пандусами/подъемными платформами; | E2: Наличие выделенных стоянок для автотранспортных средств инвалидов; | F2: Наличие адаптированных лифтов, поручней, расширенных дверных проемов; | G2: Наличие сменных кресел-колясок; | H2: Наличие специально оборудованных санитарно-гигиенических помещений в организации | J2: Дублирование для инвалидов по слуху и зрению звуковой и зрительной информации | K2: Дублирование надписей, знаков и иной текстовой и графической информации знаками, выполненными рельефно-точечным шрифтом Брайля | L2: Возможность предоставления инвалидам по слуху (слуху и зрению) услуг сурдопереводчика (тифлосурдопереводчика) | M2: Наличие альтернативной версии официального сайта организации социальной сферы в сети «Интернет» для инвалидов по зрению | N2: Помощь, оказываемая работниками организации, прошедшими необходимое обучение (инструктирование), по сопровождению инвалидов в помещении | O2: Наличие возможности предоставления услуги в дистанционном режиме или на дому
A3: 12 | B3: Троицкий район | C3: МБУДО «Троицкая детско-юношеская спортивная школа» Троицкого района | D3: 1 | E3: 1 | F3: 1 | G3: 0 | H3: 1 | I3: =SUM(D3:H3) -> 4 | J3: 1 | K3: 0 | L3: 0 | M3: 0 | N3: 0 | O3: 1 | P3: =SUM(J3:O3) -> 2 | Q3: =M3+N3+O3 -> 1 | R3: =Q3*30 -> 30
C7: 0
C8: 5 | J8: 1
C9: 3 | J9: 3
C10: 0 | J10: 0
C11: 3 | J11: 3
C12: 0 | J12: 1
C13: 3 | J13: 1
C14: 0 | J14: 2
C15: 4 | J15: 0
C16: 2 | J16: 2
C17: 4 | J17: 2
C18: 4 | J18: 1
C19: 0 | J19: 1
C20: 1 | J20: 1
J21: 0

Sheet 3УслДостИнвОц
D1: Показатель 3.1 | G1: Показатель 3.2 | J1: Показатель 3.3
B2: № | C2: ДО | D2: Количество условий доступности образовательной организации для инвалидов | E2: Значение показателя 3.1 | F2: Значение показателя 3.1 с учетом значимости | G2: Количество условий доступности, позволяющих инвалидам получать услуги наравне с другими | H2: Значение показателя 3.2 | I2: Значение показателя 3.2 с учетом значимости | J2: Число получателей услуг-инвалидов, удовлетворенных доступностью услуг | K2: Число получателей услуг-инвалидов, опрошенных по данному вопросу | L2: Значение показателя 3.3 | M2: Значение показателя 3.3 с учетом значимости | N2: Итого по критерию:
E3: 100 | F3: =E3*0.3 -> 30 | H3: 100 | I3: =H3*0.4 -> 40 | L3: 100 | M3: =L3*0.3 -> 30 | N3: =F3+I3+M3 -> 100
A4: 12 | B4: Троицкий район | C4: МБУДО «Троицкая детско-юношеская спортивная школа» Троицкого района | D4: 4 | E4: =IF(D4<=4,D4*20,100) -> 80 | F4: =E4*0.3 -> 24 | G4: 2 | H4: =G4*30 -> 60 | I4: =H4*0.4 -> 24 | J4: 0 | K4: 0 | L4: 0 | M4: =L4*0.3 -> 0 | N4: =F4+I4+M4 -> 48 | O4: =J4-K4 -> 0

Sheet 4ДобрВежл
A1: № | B1: Тип образовательной организации | C1: МО | D1: Наименование образовательной организации | E1: Показатель 4.1 Доля получателей услуг, удовлетворенных доброжелательностью, вежливостью работников организации социальной сферы | I1: Показатель 4.2 Доля получателей услуг, удовлетворенных доброжелательностью, вежливостью работников организации социальной сферы, обеспечивающих непосредственное оказание услуги | M1: Показатель 4.3 Доля получателей услуг, удовлетворенных доброжелательностью, вежливостью работников организации социальной сферы при использовании дистанционных форм взаимодействия | Q1: Итого по критерию:
E2: Число получателей услуг, удовлетворенных доброжелательностью, вежливостью работников организации социальной сферы, обеспечивающих первичный контакт и информирование получателя услуги | F2: Число опрошенных получателей услуг, ответивших на соответствующий вопрос анкеты | G2: Значение показателя 4.1 | H2: Значение показателя 4.1 с учетом значимости | I2: Число получателей услуг, удовлетворенных доброжелательностью, вежливостью работников организации социальной сферы, обеспечивающих непосредственное оказание услуги | J2: Число опрошенных получателей услуг, ответивших на соответствующий вопрос анкеты | K2: Значение показателя 4.2 | L2: Значение показателя 4.2 с учетом значимости | M2: Число получателей услуг, удовлетворенных доброжелательностью, вежливостью работников организации социальной сферы при использовании дистанционных форм взаимодействия | N2: Число опрошенных получателей услуг, ответивших на соответствующий вопрос анкеты | O2: Значение показателя 4.3 | P2: Значение показателя 4.3 с учетом значимости
G3: 100 | H3: =G3*0.4 -> 40 | K3: 100 | L3: =K3*0.4 -> 40 | O3: 100 | P3: =O3*0.2 -> 20 | Q3: =H3+L3+P3 -> 100
B4: 12 | C4: Троицкий район | D4: МБУДО «Троицкая детско-юношеская спортивная школа» Троицкого района | E4: 88 | F4: 89 | G4: =E4/F4*100 -> 98.876404 | H4: =G4*0.4 -> 39.550562 | I4: 86 | J4: 89 | K4: =I4/J4*100 -> 96.629213 | L4: =K4*0.4 -> 38.651685 | M4: 86 | N4: 89 | O4: =M4/N4*100 -> 96.629213 | P4: =O4*0.2 -> 19.325843 | Q4: =H4+L4+P4 -> 97.52809

Sheet 5УдовлУсл
A1: № | B1: Тип образовательной организации | C1: МО | D1: Наименование образовательной организации | E1: Показатель 5.1 Доля получателей услуг, которые готовы рекомендовать организацию социальной сферы родственникам и знакомым | I1: Показатель 5.2 Доля получателей услуг, удовлетворенных организационными условиями предоставления услуг | M1: Показатель 5.3 Доля получателей услуг, удовлетворенных в целом условиями оказания услуг в организации | Q1: Итого по критерию:
E2: Число получателей услуг, которые готовы рекомендовать организацию родственникам и знакомым | F2: Число опрошенных получателей услуг, ответивших на соответствующий вопрос анкеты | G2: Значение показателя 5.1 | H2: Значение показателя 5.1 с учетом значимости | I2: Число получателей услуг, удовлетворенных организационными условиями предоставления услуг | J2: Число опрошенных получателей услуг, ответивших на соответствующий вопрос анкеты | K2: Значение показателя 5.2 | L2: Значение показателя 5.2 с учетом значимости | M2: Число получателей услуг, удовлетворенных в целом условиями оказания услуг в организации социальной сферы | N2: Число опрошенных получателей услуг, ответивших на соответствующий вопрос анкеты | O2: Значение показателя 5.3 | P2: Значение показателя 5.3 с учетом значимости
G3: 100 | H3: =G3*0.3 -> 30 | K3: 100 | L3: =K3*0.2 -> 20 | O3: 100 | P3: =O3*0.5 -> 50 | Q3: =H3+L3+P3 -> 100
B4: 12 | C4: Троицкий район | D4: МБУДО «Троицкая детско-юношеская спортивная школа» Троицкого района | E4: 87 | F4: 89 | G4: =E4/F4*100 -> 97.752809 | H4: =G4*0.3 -> 29.325843 | I4: 87 | J4: 89 | K4: =I4/J4*100 -> 97.752809 | L4: =K4*0.2 -> 19.550562 | M4: 88 | N4: 89 | O4: =M4/N4*100 -> 98.876404 | P4: =O4*0.5 -> 49.438202 | Q4: =H4+L4+P4 -> 98.314607
U15: 16.2 | V15: 49.6 | W15: 95.4

Sheet Лист1
A1: Муниципальное образование | B1: Наименование образовательной организации | C1: Интегральное значение показателя
A2: Троицкий район | B2: МБУДО «Троицкая детско-юношеская спортивная школа» Троицкого района | C2: 86.511782

Sheet Интегр
A1: Место в рейтинге | B1: Муниципальное образование | C1: Наименование образовательной организации | D1: Интегральное значение показателя | E1: 1 - Показатели, характеризующие откртость и доступность информации об организации | I1: 2 - Показатели, характеризующие комфортность условий предоставления услуг | L1: 3 - Показатели, характеризующие доступность услуг для инвалидов | P1: 4 - Показатели, характеризующие доброжелательность, вежливость работников организации | T1: 5 - Показатели, характеризующие удовлетворенность условиями оказания услуг
E2: 1.1 | F2: 1.2 | G2: 1.3 | H2: К1 | I2: 2.1 | J2: 2.3 | K2: К2 | L2: 3.1 | M2: 3.2 | N2: 3.3 | O2: К3 | P2: 4.1 | Q2: 4.2 | R2: 4.3 | S2: К4 | T2: 5.1 | U2: 5.2 | V2: 5.3 | W2: К5
E3: 30 | F3: 30 | G3: 40 | H3: 100 | I3: 50 | J3: 50 | K3: 100 | L3: 30 | M3: 40 | N3: 30 | O3: 100 | P3: 40 | Q3: 40 | R3: 20 | S3: 100 | T3: 30 | U3: 20 | V3: 50 | W3: 100
A4: 10 | B4: Троицкий район | C4: МБУДО «Троицкая детско-юношеская спортивная школа» Троицкого района | D4: =AVERAGE(H4,K4,O4,S4,W4) -> 86.511782 | E4: ='1ОиДинфоб'!G5 -> 20.833333 | F4: ='1ОиДинфоб'!J5 -> 30 | G4: ='1ОиДинфоб'!P5 -> 38.44468 | H4: =E4+F4+G4 -> 89.278013 | I4: ='2КомУслОц'!F5 -> 50 | J4: ='2КомУслОц'!J5 -> 49.438202 | K4: =I4+J4 -> 99.438202 | L4: ='3УслДостИнвОц'!F4 -> 24 | M4: ='3УслДостИнвОц'!I4 -> 24 | N4: ='3УслДостИнвОц'!M4 -> 0 | O4: =L4+M4+N4 -> 48 | P4: ='4ДобрВежл'!H4 -> 39.550562 | Q4: ='4ДобрВежл'!L4 -> 38.651685 | R4: ='4ДобрВежл'!P4 -> 19.325843 | S4: =SUM(P4:R4) -> 97.52809 | T4: ='5УдовлУсл'!H4 -> 29.325843 | U4: ='5УдовлУсл'!L4 -> 19.550562 | V4: ='5УдовлУсл'!P4 -> 49.438202 | W4: =SUM(T4:V4) -> 98.314607
B5: Среднее по региону | D5: =AVERAGE(D4:D4) -> 86.511782
B10: Место в рейтинге
C11: Муниципальное образование | E11: Интегральное значение показателя | F11: К1 | G11: К2 | H11: К3 | I11: К4 | J11: К5
B12: 10 | C12: Троицкий район | D12: МБУДО «Троицкая детско-юношеская спортивная школа» Троицкого района | E12: 86.511782 | F12: 89.278013 | G12: 99.438202 | H12: 48 | I12: 97.52809 | J12: 98.314607
B17: К5 – Удовлетворенность условиями оказания услуг | C17: 98.830498
B18: К4 – Вежливость и доброжелательность сотрудников | C18: 98.780835
B19: К2 – Комфортность условий | C19: 98.300039
B20: Среднее по всем критериям | C20: 87.796901
B21: К1 – Открытость и доступность информации об организации | C21: 86.246604
B22: К3 – Доступность услуг для инвалидов | C22: 56.826531
B26: Среднее значение по всем критериям
A33: Названия строк | B33: Среднее по полю Интегральное значение показателя
A34: Троицкий район | B34: 86.511782
A35: Общий итог | B35: 86.511782
A36: Троицкий район | B36: 86.511782
